BEGIN:VCALENDAR
VERSION:2.0
PRODID:-//UBK Centre - ECPv6.15.20//NONSGML v1.0//EN
CALSCALE:GREGORIAN
METHOD:PUBLISH
X-ORIGINAL-URL:https://www.ubk-centre.com
X-WR-CALDESC:Esdeveniments per UBK Centre
REFRESH-INTERVAL;VALUE=DURATION:PT1H
X-Robots-Tag:noindex
X-PUBLISHED-TTL:PT1H
BEGIN:VTIMEZONE
TZID:Europe/Madrid
BEGIN:DAYLIGHT
TZOFFSETFROM:+0100
TZOFFSETTO:+0200
TZNAME:CEST
DTSTART:20220327T010000
END:DAYLIGHT
BEGIN:STANDARD
TZOFFSETFROM:+0200
TZOFFSETTO:+0100
TZNAME:CET
DTSTART:20221030T010000
END:STANDARD
BEGIN:DAYLIGHT
TZOFFSETFROM:+0100
TZOFFSETTO:+0200
TZNAME:CEST
DTSTART:20230326T010000
END:DAYLIGHT
BEGIN:STANDARD
TZOFFSETFROM:+0200
TZOFFSETTO:+0100
TZNAME:CET
DTSTART:20231029T010000
END:STANDARD
BEGIN:DAYLIGHT
TZOFFSETFROM:+0100
TZOFFSETTO:+0200
TZNAME:CEST
DTSTART:20240331T010000
END:DAYLIGHT
BEGIN:STANDARD
TZOFFSETFROM:+0200
TZOFFSETTO:+0100
TZNAME:CET
DTSTART:20241027T010000
END:STANDARD
BEGIN:DAYLIGHT
TZOFFSETFROM:+0100
TZOFFSETTO:+0200
TZNAME:CEST
DTSTART:20250330T010000
END:DAYLIGHT
BEGIN:STANDARD
TZOFFSETFROM:+0200
TZOFFSETTO:+0100
TZNAME:CET
DTSTART:20251026T010000
END:STANDARD
BEGIN:DAYLIGHT
TZOFFSETFROM:+0100
TZOFFSETTO:+0200
TZNAME:CEST
DTSTART:20260329T010000
END:DAYLIGHT
BEGIN:STANDARD
TZOFFSETFROM:+0200
TZOFFSETTO:+0100
TZNAME:CET
DTSTART:20261025T010000
END:STANDARD
END:VTIMEZONE
BEGIN:VEVENT
DTSTART;TZID=Europe/Madrid:20231021T100000
DTEND;TZID=Europe/Madrid:20250427T170000
DTSTAMP:20260424T114012
CREATED:20220913T072150Z
LAST-MODIFIED:20230612T161952Z
UID:15002-1697882400-1745773200@www.ubk-centre.com
SUMMARY:Formació de professors de Tai-txi i Txi-kung UBEKKHA
DESCRIPTION:2ª EDICIÓ DE UBEKKHA—FORMACIÓ  DE PROFESSORS DE TAI-TXI I TXI-KUNG\nTEW BUNNAG + JORDI J. SERRA \nLa formació s’impartirà en castellà. \nQué\nUBEKKHA (ecuanimidad) es el nombre del exitoso programa de formación básica de Tai Chi Chuan y Chi Kung cuya segunda edición se celebrará a partir de Octubre del 2023. \nUBEKKHA va dirigido a aquellas personas que deseen formarse para ser profesoras de Tai Chi y Chi Kung y también para las que ya son enseñantes de Tai Chi y Chi Kung y sienten que tienen que profundizar en determinados aspectos de la práctica para completar su formación (aspectos internos\, técnicos\, médicos\, marciales\, pedagógicos\, energéticos\, etc.). \nEl objetivo de la formación UBEKKHA es que la práctica del Tai Chi y el Chi Kung contribuya a la paz\, la armonía y la sanación\, y no a la competitividad\, el conflicto y la ignorancia. \nEsta segunda edición del programa UBEKKHA incluye todo el contenido de la primera edición más otros contenidos nuevos que amplían lo estudiado por los cincuenta participantes de la primera. \nQuién\nEl programa de formación de profesores de Tai Chi UBEKKHA ha sido diseñado por el maestro Tew Bunnag y por el director de UBK–Ki Dojo Catalunya\, Jordi J. Serra\, y será impartido por ambos. Tew Bunnag impartirá las enseñanzas de espiritualidad manifestada en las prácticas de Meditación y Chi Kung. Jordi J. Serra se encargará de impartir el resto del programa: formas y prácticas marciales. Los conocimientos médicos que se aplican al campo terapéutico y al campo marcial serán abordados por ambos enseñantes. \nCuándo\nEl inicio de la formación será en Octubre de 2023. La formación constará de dos períodos. El primero será de Octubre 2023 a Junio 2024; el segundo será de Octubre de 2024 a Abril de 2025. Asimismo\, habrá un tercer curso de profundización\, en 2025\, exclusivo para los titulados de esta segunda formación y también para los titulados de la primera. \nDónde\nEn las instalaciones de UBK–Ki Dojo Catalunya\, c) Acàcies\, 17\, local\, 08027 Barcelona\, <M> Maragall. \nCómo\nLa formación se realizará en régimen de un fin de semana mensual no residencial\, lo que suma un total de dieciséis (16) fines de semana. Sábados mañana y tarde\, y domingos mañana. \nRequisitos\nLos interesados en participar deberán conocer bien la Forma Corta (o Forma de 24\, o Forma de Beijing). \nTitulación\nUBK–Ki Dojo Catalunya entregará un diploma de acreditación firmado por el maestro Tew Bunnag y por Jordi J. Serra a las personas que hayan seguido el programa completo y que hayan superado las pruebas correspondientes. \nFORMACIÓN DE PROFESORES UBEKKHA 2.ª edición \nCalendario\n16 módulos presenciales.\n1 fin de semana cada mes. \n2023\nOctubre: 21-22\nNoviembre: 18-19\nDiciembre: 16-17 \n2024\nEnero: 13-14\nFebrero: 17-18\nMarzo: 16-17\nAbril: 13-14\nMayo: 18-19\nJunio: 15-16 \nOctubre: 12-13\nNoviembre: 16-17\nDiciembre: 14-15 \n2025\nEnero: 11-12\nFebrero: 15-16\nMarzo: 15-16\nAbril: 26-27 \nPRECIOS\n– Reserva de plaza: 150€ (se descuentan del precio total de la formación) \n– Reducido: 2400€\no pago de la totalidad antes del primer módulo de la formación\no 450€ en el trimestre: alumnos de UBK\, parados\, menores de 25 años\, jubilados\, familias monoparentales (por domiciliación bancaria) \n– General: 2720€ pagando 514€ en el trimestre (por domiciliación bancaria) \nContacto\nwww.ubk-centre.com\ninfo@ubk-centre.com\nTeléfono y WhatsApp: 637055937 \n 
URL:https://www.ubk-centre.com/taller/formacio-professors-taitxi-txikung-ubekkha/
LOCATION:Centre UBK Ki Dojo Catalunya\, Carrer de les Acàcies\, 17\, Barcelona\, 08027\, Espanya
CATEGORIES:Formació
ATTACH;FMTTYPE=image/webp:https://www.ubk-centre.com/wp-content/uploads/2022/09/TEW_JORDI_1.webp
END:VEVENT
END:VCALENDAR