BEGIN:VCALENDAR
VERSION:2.0
PRODID:-//UBK Centre - ECPv6.15.20//NONSGML v1.0//EN
CALSCALE:GREGORIAN
METHOD:PUBLISH
X-WR-CALNAME:UBK Centre
X-ORIGINAL-URL:https://www.ubk-centre.com
X-WR-CALDESC:Esdeveniments per UBK Centre
REFRESH-INTERVAL;VALUE=DURATION:PT1H
X-Robots-Tag:noindex
X-PUBLISHED-TTL:PT1H
BEGIN:VTIMEZONE
TZID:Europe/Madrid
BEGIN:DAYLIGHT
TZOFFSETFROM:+0100
TZOFFSETTO:+0200
TZNAME:CEST
DTSTART:20250330T010000
END:DAYLIGHT
BEGIN:STANDARD
TZOFFSETFROM:+0200
TZOFFSETTO:+0100
TZNAME:CET
DTSTART:20251026T010000
END:STANDARD
BEGIN:DAYLIGHT
TZOFFSETFROM:+0100
TZOFFSETTO:+0200
TZNAME:CEST
DTSTART:20260329T010000
END:DAYLIGHT
BEGIN:STANDARD
TZOFFSETFROM:+0200
TZOFFSETTO:+0100
TZNAME:CET
DTSTART:20261025T010000
END:STANDARD
BEGIN:DAYLIGHT
TZOFFSETFROM:+0100
TZOFFSETTO:+0200
TZNAME:CEST
DTSTART:20270328T010000
END:DAYLIGHT
BEGIN:STANDARD
TZOFFSETFROM:+0200
TZOFFSETTO:+0100
TZNAME:CET
DTSTART:20271031T010000
END:STANDARD
END:VTIMEZONE
BEGIN:VEVENT
DTSTART;TZID=Europe/Madrid:20260522T180000
DTEND;TZID=Europe/Madrid:20260524T163000
DTSTAMP:20260422T123721
CREATED:20251010T165246Z
LAST-MODIFIED:20251030T093008Z
UID:20574-1779472800-1779640200@www.ubk-centre.com
SUMMARY:Curs de Tai-txi\, Txi-kung i Meditació Primavera 2026
DESCRIPTION:Curs de cap de setmana de Tai-txi\, Txi-kung i Meditació a la natura amb Tew Bunnag i Jordi J. Serra.\nDel 22 al 24 de maig 2026.\nHostal La Devesa\, Pruït-Rupit \nEl Tai-txi-txuan sorgeix de la confluència de diversos coneixements ancestrals orientals:\n1. La saviesa de la medicina tradicional xinesa\, amb el seu enfocament energètic i holístic sobre la salut.\n2. La tradició guerrera dels monjos de Shaolin\, que duia segles incorporant les tècniques que ara anomenem Qigong al seu repertori.\n3. El taoisme i el budisme\, amb el seu compromís amb la no-violència i el respecte a les lleis de la natura.\nEl Tai-txi\, com l’univers\, no té ni principi ni fi. Quan fem Tai-txi només som\, només estem presents\, sense perseguir compulsivament objectius llunyans. El que és de debó important és el procés de moure’ns\, no pas el d’anar aquí o allà. És un viatge etern durant el qual aprenem sobre el nostre lloc al món\, les nostres relacions\, la nostra salut i la nostra dimensió espiritual\nEn aquest taller de primavera a Rupit\, explorarem especialment la lentitud i els diversos ritmes a la forma per a entendre com els elements hi actuen (terra\, metall\, aire\, fusta i foc)\, les pràctiques mentals durant la realització de les formes\, l’aprofundiment en la meditació i en la comprensió marcial i energètica de tot allò que fem. Les nostres formes Yang de referència són la de 24 i la de 108. Pel que fa a txi-kung\, en practicarem seqüències clàssiques. \nCom sempre\, el curs és obert a tots els nivells\, principiants inclosos. \nUs hi esperem! \nAllotjament en habitació doble amb bany privat. \nÀpats a càrrec del Restaurant La Devesa. \nPots venir amb la familia o amics que no vulguin fer el curs però que vulguin gaudir del meravellós entorn\, de la gastronomia i de les instal.lacions. \nPreus:\n275€ preu amb descompte si formalitzes la reserva abans del 9 de maig. El preu inclou el curs\, l’allotjament\, la pensió completa i l’ús de les instal.lacions.\n275€ preu amb descompte si ets alumne d’UBK o de la Formació de Professors\, estàs a l’atur\, jove fins a 25 anys\,  família monoparental. El preu inclou el curs\, l’allotjament\, la pensió completa i l’ús de les instal.lacions.\n305€ preu general. El preu inclou el curs\, l’allotjament\, la pensió completa i l’ús de les instal.lacions.\n160€ preu acompanyant adult. El preu inclou l’allotjament\, la pensió completa i l’ús de les instal.lacions. \nReserva de plaça: 100€ \nFormulari d’inscripció: https://forms.gle/fGk2WTDAnXeJwTM2A \nMés informació:\nwww.ubk-centre.com\nMail: info@ubk-centre.com\nTelèfon i WhatsApp: 637055937
URL:https://www.ubk-centre.com/taller/curs-taitxi-txikung-meditacio-primavera-2026/
LOCATION:Barcelona
ATTACH;FMTTYPE=image/webp:https://www.ubk-centre.com/wp-content/uploads/2025/10/1Natura_Primavera_2026_WEB.webp
END:VEVENT
END:VCALENDAR