BEGIN:VCALENDAR
VERSION:2.0
PRODID:-//UBK Centre - ECPv6.15.20//NONSGML v1.0//EN
CALSCALE:GREGORIAN
METHOD:PUBLISH
X-ORIGINAL-URL:https://www.ubk-centre.com
X-WR-CALDESC:Esdeveniments per UBK Centre
REFRESH-INTERVAL;VALUE=DURATION:PT1H
X-Robots-Tag:noindex
X-PUBLISHED-TTL:PT1H
BEGIN:VTIMEZONE
TZID:Europe/Madrid
BEGIN:DAYLIGHT
TZOFFSETFROM:+0100
TZOFFSETTO:+0200
TZNAME:CEST
DTSTART:20210328T010000
END:DAYLIGHT
BEGIN:STANDARD
TZOFFSETFROM:+0200
TZOFFSETTO:+0100
TZNAME:CET
DTSTART:20211031T010000
END:STANDARD
BEGIN:DAYLIGHT
TZOFFSETFROM:+0100
TZOFFSETTO:+0200
TZNAME:CEST
DTSTART:20220327T010000
END:DAYLIGHT
BEGIN:STANDARD
TZOFFSETFROM:+0200
TZOFFSETTO:+0100
TZNAME:CET
DTSTART:20221030T010000
END:STANDARD
BEGIN:DAYLIGHT
TZOFFSETFROM:+0100
TZOFFSETTO:+0200
TZNAME:CEST
DTSTART:20230326T010000
END:DAYLIGHT
BEGIN:STANDARD
TZOFFSETFROM:+0200
TZOFFSETTO:+0100
TZNAME:CET
DTSTART:20231029T010000
END:STANDARD
END:VTIMEZONE
BEGIN:VEVENT
DTSTART;TZID=Europe/Madrid:20220122T100000
DTEND;TZID=Europe/Madrid:20220122T133000
DTSTAMP:20260424T113803
CREATED:20211126T063710Z
LAST-MODIFIED:20220117T080827Z
UID:13752-1642845600-1642858200@www.ubk-centre.com
SUMMARY:Portes Obertes a UBK Ki Dojo Catalunya
DESCRIPTION:Dissabte 22 de gener de 2022\nJornada de Portes Obertes a UBK Ki Dojo Catalunya. \nVine i participa de forma totalment gratuïta i sense compromís en qualsevol de les activitats següents (o en totes): \n10.00h: Meditació \n10.45h: Txi-kung (qigong) \n11.30h: Tai-txi \n12.15h: Aikido \n13.00h: Vermut \nGratuït i amb regal! \nObert a tothom. No cal experiència prèvia. \nNomés per venir\, emporta’t un val de matrícula gratuïta! \nLloc:\nUBK Ki Dojo Catalunya. Barcelona\, c/ Acàcies 17-19 baixos \nInformació i inscripció:\nhttps://www.ubk-centre.com/contacte/\nTelèfon i WhatsApp: 637 055 937\ninfo@ubk-centre.com
URL:https://www.ubk-centre.com/taller/portes-obertes-a-ubk-ki-dojo-catalunya-2/
LOCATION:Centre UBK Ki Dojo Catalunya\, Carrer de les Acàcies\, 17\, Barcelona\, 08027\, Espanya
CATEGORIES:aikido,meditació,Tai-txi,Tallers presencials a Barcelona,txi-kung
ATTACH;FMTTYPE=image/jpeg:https://www.ubk-centre.com/wp-content/uploads/2021/07/portes-obertes-facana18setembre.jpg
END:VEVENT
END:VCALENDAR