BEGIN:VCALENDAR
VERSION:2.0
PRODID:-//UBK Centre - ECPv6.15.20//NONSGML v1.0//EN
CALSCALE:GREGORIAN
METHOD:PUBLISH
X-WR-CALNAME:UBK Centre
X-ORIGINAL-URL:https://www.ubk-centre.com
X-WR-CALDESC:Esdeveniments per UBK Centre
REFRESH-INTERVAL;VALUE=DURATION:PT1H
X-Robots-Tag:noindex
X-PUBLISHED-TTL:PT1H
BEGIN:VTIMEZONE
TZID:Europe/Madrid
BEGIN:DAYLIGHT
TZOFFSETFROM:+0100
TZOFFSETTO:+0200
TZNAME:CEST
DTSTART:20250330T010000
END:DAYLIGHT
BEGIN:STANDARD
TZOFFSETFROM:+0200
TZOFFSETTO:+0100
TZNAME:CET
DTSTART:20251026T010000
END:STANDARD
BEGIN:DAYLIGHT
TZOFFSETFROM:+0100
TZOFFSETTO:+0200
TZNAME:CEST
DTSTART:20260329T010000
END:DAYLIGHT
BEGIN:STANDARD
TZOFFSETFROM:+0200
TZOFFSETTO:+0100
TZNAME:CET
DTSTART:20261025T010000
END:STANDARD
BEGIN:DAYLIGHT
TZOFFSETFROM:+0100
TZOFFSETTO:+0200
TZNAME:CEST
DTSTART:20270328T010000
END:DAYLIGHT
BEGIN:STANDARD
TZOFFSETFROM:+0200
TZOFFSETTO:+0100
TZNAME:CET
DTSTART:20271031T010000
END:STANDARD
END:VTIMEZONE
BEGIN:VEVENT
DTSTART;TZID=Europe/Madrid:20260228T093000
DTEND;TZID=Europe/Madrid:20260228T143000
DTSTAMP:20260424T115710
CREATED:20251215T102441Z
LAST-MODIFIED:20251215T102954Z
UID:20699-1772271000-1772289000@www.ubk-centre.com
SUMMARY:On sóc i on vull ser
DESCRIPTION:On sóc i on vull ser. Construint-me.\nTaller vivencial des de les arts i el cos \nDissabte 28 de febrer 2026 de 9.30h a 14.30h\nImpartit per Gemma Mas  \nQuin és el meu moment vital? Què vull sincerament a la meva vida? Quines són les meves necessitats? Què desitjo de veritat? Cap a on vull anar realment\, més enllà de “el que s’espera de mi” i més enllà de cap a on la inèrcia em porta? Obstacles? Bloqueigs? Quins són els meus recursos i potències? Com agafar les regnes de la meva pròpia vida i ser protagonista de la meva història? \nLlançar-se valentament a la recerca de respostes es un viatge de transformació. \nTreball de creixement i desenvolupament personal per a explorar el meu moment vital (jo en aquest moment de la meva vida)\, prendre consciència de “qui sóc”\, la meva situació\, les meves necessitats i els meus recursos\, el que vull i el que no vull\, cap a on desitjo anar realment\, dificultats i possibilitats\, quines portes obro i quines portes tanco\, des de la meva sincera autointerrogació\, traspassant “el que crec que s’espera de mi” i les meves inèrcies. Així mateix\, obrir camins futurs\, prenent contacte amb la meva pròpia llibertat d’escollir entre camins coneguts (encara que limitadors i que em fan patir) o nous camins de creativitat (desconeguts però plens de possibilitats vitals). \nPlaces limitades! \nMetodologia \nExperimentació amb les diferents formes d’expressió artística com a instruments d’investigació d’(auto)coneixement i canvi (música\, expressió i moviment corporal\, escriptura\, arts plàstiques\, veu\, teatre…) \nMultiplicació de la mirada\, obrint-la\, a partir de la interacció amb l’altre i la ressonància grupal\, sense jutjar ni interpretar\, des del que sento i em provoca allò viscut\,  amb la meva  escolta activa\, amb tots els sentits. \nLa metàfora com a instrument de diagnosi i investigació. \nEl moment de la trobada amb mi i la trobada amb l’altre\, aquí i ara. \nLa vivència estètica com a experiència sentida que obre significats i possibilita resignificacions. \nL’horitzontalitat del vincle com a base de treball. \nEspai de confiança i seguretat perquè pugui aflorar allò més íntim. \nDestinataris\nEl taller està obert tant a persones que vulguin investigar en el seu desenvolupament i creixement personal com a professionals que es dediquen al treball terapèutic i/o d’acompanyament (terapeutes\, mestres\, educadors socials\, psicòlegs\, estudiants i altres professionals de la salut\, el món social\, l’art i la pedadogia\, etc..). \nNo es requereix experiència prèvia ni coneixements tècnics \nEl taller està organitzat i tindrà lloc a l’Institut d’Artteràpia Transdisciplinària de Barcelona (IATBA)\nC/ Regomir\, 18-22\, 2on Barcelona \nMés informació:\nhttps://www.iatba.org/donde-estoy-y-donde-quiero-estar/\ninfo@artterapia.net
URL:https://www.ubk-centre.com/taller/on-soc-on-vull-ser/
LOCATION:IATBA\, Regomir\, 18-22\, Barcelona\, Barcelona\, 08002
ATTACH;FMTTYPE=image/webp:https://www.ubk-centre.com/wp-content/uploads/2025/12/Donde_Estoy2026_CAT_WEB.webp
END:VEVENT
END:VCALENDAR